BEGIN:VCALENDAR
VERSION:2.0
PRODID:-//https://calenda-formation.labocleo.org
X-WR-CALNAME:Calenda
X-WR-TIMEZONE:Europe/Paris
CALSCALE:GREGORIAN
X-WR-CALDESC:Le calendrier des lettres et sciences humaines et sociales
METHOD:PUBLISH
BEGIN:VEVENT
DTSTART;VALUE=DATE:20190304
DTEND;VALUE=DATE:20190305
UID:557974-20190304@calenda.revues.org
SUMMARY:Genre\, langage et politique. Le langage non sexiste en débat
URL:https://calenda-formation.labocleo.org/557974
DESCRIPTION:Pour ses promoteurs et promotrices\, le langage inclusif et ses différentes pratiques (féminisation des noms\, accord de proximité\, emploi de mots épicènes\, point médian\, etc.) ont pour but de lutter contre le sexisme et les inégalités entre les sexes … @plus_info https://calenda-formation.labocleo.org/557974
LOCATION:
END:VEVENT
END:VCALENDAR
