BEGIN:VCALENDAR
VERSION:2.0
PRODID:-//https://calenda-formation.labocleo.org
X-WR-CALNAME:Calenda
X-WR-TIMEZONE:Europe/Paris
CALSCALE:GREGORIAN
X-WR-CALDESC:Le calendrier des lettres et sciences humaines et sociales
METHOD:PUBLISH
BEGIN:VEVENT
DTSTART;VALUE=DATE:20190215
DTEND;VALUE=DATE:20190216
UID:561597-20190215@calenda.revues.org
SUMMARY:Déclasser par corps ? Classements\, déclassements sociaux et affects
URL:https://calenda-formation.labocleo.org/561597
DESCRIPTION:Par « classement » et « déclassement » on entend ici essentiellement : mise à l’écart\, ségrégation\, relégation\, atténuation de la mixité sociale. Or\, conformément à la vocation du réseau thématique 17\, nous voudrions penser cette réalité par « corps … Más informaciones https://calenda-formation.labocleo.org/561597
LOCATION:
END:VEVENT
END:VCALENDAR
