BEGIN:VCALENDAR
VERSION:2.0
PRODID:-//https://calenda-formation.labocleo.org
X-WR-CALNAME:Calenda
X-WR-TIMEZONE:Europe/Paris
CALSCALE:GREGORIAN
X-WR-CALDESC:The calendar for arts, humanities and social sciences
METHOD:PUBLISH
BEGIN:VEVENT
DTSTART;VALUE=DATE:20190121
DTEND;VALUE=DATE:20190122
UID:563390-20190121@calenda.revues.org
SUMMARY:ERC MAP Seminar « Noms de dieux ! »
URL:https://calenda-formation.labocleo.org/563390
DESCRIPTION:The ERC MAP Seminar « Noms de dieux ! » 3: “Texts\, images and contexts of use” pursues the investigation on the systems of naming of the divine by privileging two main issues: the contexts of enunciation and the imaging of "divine onomastic attribute… @plus_info https://calenda-formation.labocleo.org/563390
LOCATION:Toulouse
END:VEVENT
BEGIN:VEVENT
DTSTART;VALUE=DATE:20190204
DTEND;VALUE=DATE:20190205
UID:563390-20190204@calenda.revues.org
SUMMARY:ERC MAP Seminar « Noms de dieux ! »
URL:https://calenda-formation.labocleo.org/563390
DESCRIPTION:The ERC MAP Seminar « Noms de dieux ! » 3: “Texts\, images and contexts of use” pursues the investigation on the systems of naming of the divine by privileging two main issues: the contexts of enunciation and the imaging of "divine onomastic attribute… @plus_info https://calenda-formation.labocleo.org/563390
LOCATION:Toulouse
END:VEVENT
BEGIN:VEVENT
DTSTART;VALUE=DATE:20190218
DTEND;VALUE=DATE:20190219
UID:563390-20190218@calenda.revues.org
SUMMARY:ERC MAP Seminar « Noms de dieux ! »
URL:https://calenda-formation.labocleo.org/563390
DESCRIPTION:The ERC MAP Seminar « Noms de dieux ! » 3: “Texts\, images and contexts of use” pursues the investigation on the systems of naming of the divine by privileging two main issues: the contexts of enunciation and the imaging of "divine onomastic attribute… @plus_info https://calenda-formation.labocleo.org/563390
LOCATION:Toulouse
END:VEVENT
BEGIN:VEVENT
DTSTART;VALUE=DATE:20190225
DTEND;VALUE=DATE:20190226
UID:563390-20190225@calenda.revues.org
SUMMARY:ERC MAP Seminar « Noms de dieux ! »
URL:https://calenda-formation.labocleo.org/563390
DESCRIPTION:The ERC MAP Seminar « Noms de dieux ! » 3: “Texts\, images and contexts of use” pursues the investigation on the systems of naming of the divine by privileging two main issues: the contexts of enunciation and the imaging of "divine onomastic attribute… @plus_info https://calenda-formation.labocleo.org/563390
LOCATION:Toulouse
END:VEVENT
BEGIN:VEVENT
DTSTART;VALUE=DATE:20190311
DTEND;VALUE=DATE:20190312
UID:563390-20190311@calenda.revues.org
SUMMARY:ERC MAP Seminar « Noms de dieux ! »
URL:https://calenda-formation.labocleo.org/563390
DESCRIPTION:The ERC MAP Seminar « Noms de dieux ! » 3: “Texts\, images and contexts of use” pursues the investigation on the systems of naming of the divine by privileging two main issues: the contexts of enunciation and the imaging of "divine onomastic attribute… @plus_info https://calenda-formation.labocleo.org/563390
LOCATION:Toulouse
END:VEVENT
BEGIN:VEVENT
DTSTART;VALUE=DATE:20190318
DTEND;VALUE=DATE:20190319
UID:563390-20190318@calenda.revues.org
SUMMARY:ERC MAP Seminar « Noms de dieux ! »
URL:https://calenda-formation.labocleo.org/563390
DESCRIPTION:The ERC MAP Seminar « Noms de dieux ! » 3: “Texts\, images and contexts of use” pursues the investigation on the systems of naming of the divine by privileging two main issues: the contexts of enunciation and the imaging of "divine onomastic attribute… @plus_info https://calenda-formation.labocleo.org/563390
LOCATION:Toulouse
END:VEVENT
BEGIN:VEVENT
DTSTART;VALUE=DATE:20190415
DTEND;VALUE=DATE:20190416
UID:563390-20190415@calenda.revues.org
SUMMARY:ERC MAP Seminar « Noms de dieux ! »
URL:https://calenda-formation.labocleo.org/563390
DESCRIPTION:The ERC MAP Seminar « Noms de dieux ! » 3: “Texts\, images and contexts of use” pursues the investigation on the systems of naming of the divine by privileging two main issues: the contexts of enunciation and the imaging of "divine onomastic attribute… @plus_info https://calenda-formation.labocleo.org/563390
LOCATION:Toulouse
END:VEVENT
BEGIN:VEVENT
DTSTART;VALUE=DATE:20190506
DTEND;VALUE=DATE:20190507
UID:563390-20190506@calenda.revues.org
SUMMARY:ERC MAP Seminar « Noms de dieux ! »
URL:https://calenda-formation.labocleo.org/563390
DESCRIPTION:The ERC MAP Seminar « Noms de dieux ! » 3: “Texts\, images and contexts of use” pursues the investigation on the systems of naming of the divine by privileging two main issues: the contexts of enunciation and the imaging of "divine onomastic attribute… @plus_info https://calenda-formation.labocleo.org/563390
LOCATION:Toulouse
END:VEVENT
BEGIN:VEVENT
DTSTART;VALUE=DATE:20190520
DTEND;VALUE=DATE:20190521
UID:563390-20190520@calenda.revues.org
SUMMARY:ERC MAP Seminar « Noms de dieux ! »
URL:https://calenda-formation.labocleo.org/563390
DESCRIPTION:The ERC MAP Seminar « Noms de dieux ! » 3: “Texts\, images and contexts of use” pursues the investigation on the systems of naming of the divine by privileging two main issues: the contexts of enunciation and the imaging of "divine onomastic attribute… @plus_info https://calenda-formation.labocleo.org/563390
LOCATION:Toulouse
END:VEVENT
BEGIN:VEVENT
DTSTART;VALUE=DATE:20190603
DTEND;VALUE=DATE:20190604
UID:563390-20190603@calenda.revues.org
SUMMARY:ERC MAP Seminar « Noms de dieux ! »
URL:https://calenda-formation.labocleo.org/563390
DESCRIPTION:The ERC MAP Seminar « Noms de dieux ! » 3: “Texts\, images and contexts of use” pursues the investigation on the systems of naming of the divine by privileging two main issues: the contexts of enunciation and the imaging of "divine onomastic attribute… @plus_info https://calenda-formation.labocleo.org/563390
LOCATION:Toulouse
END:VEVENT
BEGIN:VEVENT
DTSTART;VALUE=DATE:20190617
DTEND;VALUE=DATE:20190618
UID:563390-20190617@calenda.revues.org
SUMMARY:ERC MAP Seminar « Noms de dieux ! »
URL:https://calenda-formation.labocleo.org/563390
DESCRIPTION:The ERC MAP Seminar « Noms de dieux ! » 3: “Texts\, images and contexts of use” pursues the investigation on the systems of naming of the divine by privileging two main issues: the contexts of enunciation and the imaging of "divine onomastic attribute… @plus_info https://calenda-formation.labocleo.org/563390
LOCATION:Toulouse
END:VEVENT
END:VCALENDAR
