BEGIN:VCALENDAR
VERSION:2.0
PRODID:-//https://calenda-formation.labocleo.org
X-WR-CALNAME:Calenda
X-WR-TIMEZONE:Europe/Paris
CALSCALE:GREGORIAN
X-WR-CALDESC:The calendar for arts, humanities and social sciences
METHOD:PUBLISH
BEGIN:VEVENT
DTSTART;VALUE=DATE:20190630
DTEND;VALUE=DATE:20190701
UID:564765-20190630@calenda.revues.org
SUMMARY:Languages in use in North Africa - current state of affairs and perspectives
URL:https://calenda-formation.labocleo.org/564765
DESCRIPTION:Le numéro 3 de Langues et Usages est consacré à l'usage des langues en Afrique du Nord. Nous attendons des auteurs des études de cas et des enquêtes de terrain plutôt que des articles théoriques sur la question. … @plus_info https://calenda-formation.labocleo.org/564765
LOCATION:
END:VEVENT
END:VCALENDAR
