BEGIN:VCALENDAR
VERSION:2.0
PRODID:-//https://calenda-formation.labocleo.org
X-WR-CALNAME:Calenda
X-WR-TIMEZONE:Europe/Paris
CALSCALE:GREGORIAN
X-WR-CALDESC:The calendar for arts, humanities and social sciences
METHOD:PUBLISH
BEGIN:VEVENT
DTSTART;VALUE=DATE:20190214
DTEND;VALUE=DATE:20190215
UID:565198-20190214@calenda.revues.org
SUMMARY:Film anthropology
URL:https://calenda-formation.labocleo.org/565198
DESCRIPTION:Pour sa deuxième édition\, cette journée vise à promouvoir les études et les recherches associées à la production d’images et sons en sciences humaines et sociales. … @plus_info https://calenda-formation.labocleo.org/565198
LOCATION:Nice
END:VEVENT
END:VCALENDAR
