BEGIN:VCALENDAR
VERSION:2.0
PRODID:-//https://calenda-formation.labocleo.org
X-WR-CALNAME:Calenda
X-WR-TIMEZONE:Europe/Paris
CALSCALE:GREGORIAN
X-WR-CALDESC:O calendário de letras e de ciências sociais e humanas
METHOD:PUBLISH
BEGIN:VEVENT
DTSTART;VALUE=DATE:20190228
DTEND;VALUE=DATE:20190301
UID:566662-20190228@calenda.revues.org
SUMMARY:Quel héritage en termes d’image pour les villes hôtes ou candidates des olympiades ?
URL:https://calenda-formation.labocleo.org/566662
DESCRIPTION:Les contributions peuvent venir des spécialistes de l’image des territoires et du place branding qui peuvent s’emparer de l’objet olympique. Comment les théories qui concernent l’image des territoires peuvent-elles s’appliquer à un tel objet si puiss… @plus_info https://calenda-formation.labocleo.org/566662
LOCATION:Champs-sur-Marne
END:VEVENT
END:VCALENDAR
