BEGIN:VCALENDAR
VERSION:2.0
PRODID:-//https://calenda-formation.labocleo.org
X-WR-CALNAME:Calenda
X-WR-TIMEZONE:Europe/Paris
CALSCALE:GREGORIAN
X-WR-CALDESC:Le calendrier des lettres et sciences humaines et sociales
METHOD:PUBLISH
BEGIN:VEVENT
DTSTART;VALUE=DATE:20190915
DTEND;VALUE=DATE:20190916
UID:567055-20190915@calenda.revues.org
SUMMARY:Les sciences du numérique : impacts et challenges  sur l’organisation de la connaissance 
URL:https://calenda-formation.labocleo.org/567055
DESCRIPTION:Face à l’avènement des sciences du numérique\, la gouvernance de la connaissance paraît être la politique scientifique la plus apte à la création de la valeur au regard de l’homme et de son évolution dans les cultures et civilisations. Le devoir de ce… @plus_info https://calenda-formation.labocleo.org/567055
LOCATION:Tunis
END:VEVENT
END:VCALENDAR
