BEGIN:VCALENDAR
VERSION:2.0
PRODID:-//https://calenda-formation.labocleo.org
X-WR-CALNAME:Calenda
X-WR-TIMEZONE:Europe/Paris
CALSCALE:GREGORIAN
X-WR-CALDESC:Le calendrier des lettres et sciences humaines et sociales
METHOD:PUBLISH
BEGIN:VEVENT
DTSTART;VALUE=DATE:20190325
DTEND;VALUE=DATE:20190326
UID:567550-20190325@calenda.revues.org
SUMMARY:Migrations et circulations entre l'Italie et la France du XIXe siècle à aujourd’hui
URL:https://calenda-formation.labocleo.org/567550
DESCRIPTION:À l’occasion de la présentation de l’exposition « Ciao Italia. Immigration et cultures italiennes en France 1860-1960 » à l’Institut français – Centre Saint-Louis\, le colloque réunira des chercheurs français et italiens de différentes disciplines afi… Más informaciones https://calenda-formation.labocleo.org/567550
LOCATION:Roma
END:VEVENT
BEGIN:VEVENT
DTSTART;VALUE=DATE:20190326
DTEND;VALUE=DATE:20190327
UID:567550-20190326@calenda.revues.org
SUMMARY:Migrations et circulations entre l'Italie et la France du XIXe siècle à aujourd’hui
URL:https://calenda-formation.labocleo.org/567550
DESCRIPTION:À l’occasion de la présentation de l’exposition « Ciao Italia. Immigration et cultures italiennes en France 1860-1960 » à l’Institut français – Centre Saint-Louis\, le colloque réunira des chercheurs français et italiens de différentes disciplines afi… Más informaciones https://calenda-formation.labocleo.org/567550
LOCATION:Roma
END:VEVENT
END:VCALENDAR
