BEGIN:VCALENDAR
VERSION:2.0
PRODID:-//https://calenda-formation.labocleo.org
X-WR-CALNAME:Calenda
X-WR-TIMEZONE:Europe/Paris
CALSCALE:GREGORIAN
X-WR-CALDESC:O calendário de letras e de ciências sociais e humanas
METHOD:PUBLISH
BEGIN:VEVENT
DTSTART;VALUE=DATE:20190214
DTEND;VALUE=DATE:20190215
UID:567690-20190214@calenda.revues.org
SUMMARY:Éducation populaire : engagement\, médiation\, transmission (XIXe-XXIe siècle) 
URL:https://calenda-formation.labocleo.org/567690
DESCRIPTION:Dans le cadre du projet de recherche « Éducation populaire : engagement\, médiation\, transmission (XIX-XXI siècle) » soutenu par le COMUE UPL\, les archives nationales proposent un stage gratifié de quatre mois. Le poste est à pourvoir au plus vite. … @plus_info https://calenda-formation.labocleo.org/567690
LOCATION:Pierrefitte-sur-Seine
END:VEVENT
END:VCALENDAR
