BEGIN:VCALENDAR
VERSION:2.0
PRODID:-//https://calenda-formation.labocleo.org
X-WR-CALNAME:Calenda
X-WR-TIMEZONE:Europe/Paris
CALSCALE:GREGORIAN
X-WR-CALDESC:Le calendrier des lettres et sciences humaines et sociales
METHOD:PUBLISH
BEGIN:VEVENT
DTSTART;VALUE=DATE:20190315
DTEND;VALUE=DATE:20190316
UID:571758-20190315@calenda.revues.org
SUMMARY:Aide à la mobilité jeunes chercheurs au Centre français de recherche en sciences sociales (CEFRES) 2019
URL:https://calenda-formation.labocleo.org/571758
DESCRIPTION:Le Centre français de recherche en sciences sociales (CEFRES) offre des aides à la mobilité d’un an à des doctorants en 2e année de thèse ou plus inscrit dans une université en France\, Hongrie\, Pologne\, République tchèque ou Slovaquie. Les travaux de… @plus_info https://calenda-formation.labocleo.org/571758
LOCATION:Prague
END:VEVENT
END:VCALENDAR
