BEGIN:VCALENDAR
VERSION:2.0
PRODID:-//https://calenda-formation.labocleo.org
X-WR-CALNAME:Calenda
X-WR-TIMEZONE:Europe/Paris
CALSCALE:GREGORIAN
X-WR-CALDESC:The calendar for arts, humanities and social sciences
METHOD:PUBLISH
BEGIN:VEVENT
DTSTART;VALUE=DATE:20190331
DTEND;VALUE=DATE:20190401
UID:571853-20190331@calenda.revues.org
SUMMARY:When women film: the documentary in the Iberian peninsula and in the Latin-American continent
URL:https://calenda-formation.labocleo.org/571853
DESCRIPTION:Ce colloque international et interuniversitaire aura pour objet l'étude de la production documentaire réalisée par des femmes des pays de la péninsule ibérique ou du continent latino-américain. Il a pour visée de repenser\, dans une perspective transd… @plus_info https://calenda-formation.labocleo.org/571853
LOCATION:Lyon
END:VEVENT
END:VCALENDAR
