BEGIN:VCALENDAR
VERSION:2.0
PRODID:-//https://calenda-formation.labocleo.org
X-WR-CALNAME:Calenda
X-WR-TIMEZONE:Europe/Paris
CALSCALE:GREGORIAN
X-WR-CALDESC:Le calendrier des lettres et sciences humaines et sociales
METHOD:PUBLISH
BEGIN:VEVENT
DTSTART;VALUE=DATE:20190228
DTEND;VALUE=DATE:20190301
UID:572047-20190228@calenda.revues.org
SUMMARY:Luttes contre la corruption en Haiti
URL:https://calenda-formation.labocleo.org/572047
DESCRIPTION:Ce contexte nous pousse à réfléchir sur les formes de corruptions dans les pays périphériques. Le scandale PetroCaribe en Haiti reste le prétexte principal de cet événement. Le rapport partiel du CSCCA confirme notre intérêt pour la question de la co… Weitere Informationen https://calenda-formation.labocleo.org/572047
LOCATION:Paris
END:VEVENT
END:VCALENDAR
