BEGIN:VCALENDAR
VERSION:2.0
PRODID:-//https://calenda-formation.labocleo.org
X-WR-CALNAME:Calenda
X-WR-TIMEZONE:Europe/Paris
CALSCALE:GREGORIAN
X-WR-CALDESC:The calendar for arts, humanities and social sciences
METHOD:PUBLISH
BEGIN:VEVENT
DTSTART;VALUE=DATE:20190225
DTEND;VALUE=DATE:20190226
UID:572397-20190225@calenda.revues.org
SUMMARY:Jijé before Jerry Spring (1914-1954)
URL:https://calenda-formation.labocleo.org/572397
DESCRIPTION:Cette journée\, qui sera la première journée d’étude sur Jijé à l’université\, se focalisera sur la première moitié d’une carrière en bande dessinée\, où l’auteur expérimenta la bande dessinée chrétienne\, la veine humoristique\, ou encore la BD d’aventur… @plus_info https://calenda-formation.labocleo.org/572397
LOCATION:Louvain-la-Neuve
END:VEVENT
END:VCALENDAR
