BEGIN:VCALENDAR
VERSION:2.0
PRODID:-//https://calenda-formation.labocleo.org
X-WR-CALNAME:Calenda
X-WR-TIMEZONE:Europe/Paris
CALSCALE:GREGORIAN
X-WR-CALDESC:Le calendrier des lettres et sciences humaines et sociales
METHOD:PUBLISH
BEGIN:VEVENT
DTSTART;VALUE=DATE:20190219
DTEND;VALUE=DATE:20190220
UID:573509-20190219@calenda.revues.org
SUMMARY:La République européenne des bureaux. Une histoire documentaire des pouvoirs\, XVe - XVIIIe siècles 
URL:https://calenda-formation.labocleo.org/573509
DESCRIPTION:Le séminaire vise à étudier le fait administratif\, de la Renaissance aux Lumières\, en mettant l'accent sur les pratiques documentaires\, ainsi que sur les circulations qui les structurent. Nous explorons l’émergence des bureaucraties en Europe et… Más informaciones https://calenda-formation.labocleo.org/573509
LOCATION:
END:VEVENT
BEGIN:VEVENT
DTSTART;VALUE=DATE:20190312
DTEND;VALUE=DATE:20190313
UID:573509-20190312@calenda.revues.org
SUMMARY:La République européenne des bureaux. Une histoire documentaire des pouvoirs\, XVe - XVIIIe siècles 
URL:https://calenda-formation.labocleo.org/573509
DESCRIPTION:Le séminaire vise à étudier le fait administratif\, de la Renaissance aux Lumières\, en mettant l'accent sur les pratiques documentaires\, ainsi que sur les circulations qui les structurent. Nous explorons l’émergence des bureaucraties en Europe et… Más informaciones https://calenda-formation.labocleo.org/573509
LOCATION:
END:VEVENT
BEGIN:VEVENT
DTSTART;VALUE=DATE:20190409
DTEND;VALUE=DATE:20190410
UID:573509-20190409@calenda.revues.org
SUMMARY:La République européenne des bureaux. Une histoire documentaire des pouvoirs\, XVe - XVIIIe siècles 
URL:https://calenda-formation.labocleo.org/573509
DESCRIPTION:Le séminaire vise à étudier le fait administratif\, de la Renaissance aux Lumières\, en mettant l'accent sur les pratiques documentaires\, ainsi que sur les circulations qui les structurent. Nous explorons l’émergence des bureaucraties en Europe et… Más informaciones https://calenda-formation.labocleo.org/573509
LOCATION:
END:VEVENT
BEGIN:VEVENT
DTSTART;VALUE=DATE:20190514
DTEND;VALUE=DATE:20190515
UID:573509-20190514@calenda.revues.org
SUMMARY:La République européenne des bureaux. Une histoire documentaire des pouvoirs\, XVe - XVIIIe siècles 
URL:https://calenda-formation.labocleo.org/573509
DESCRIPTION:Le séminaire vise à étudier le fait administratif\, de la Renaissance aux Lumières\, en mettant l'accent sur les pratiques documentaires\, ainsi que sur les circulations qui les structurent. Nous explorons l’émergence des bureaucraties en Europe et… Más informaciones https://calenda-formation.labocleo.org/573509
LOCATION:
END:VEVENT
BEGIN:VEVENT
DTSTART;VALUE=DATE:20190604
DTEND;VALUE=DATE:20190605
UID:573509-20190604@calenda.revues.org
SUMMARY:La République européenne des bureaux. Une histoire documentaire des pouvoirs\, XVe - XVIIIe siècles 
URL:https://calenda-formation.labocleo.org/573509
DESCRIPTION:Le séminaire vise à étudier le fait administratif\, de la Renaissance aux Lumières\, en mettant l'accent sur les pratiques documentaires\, ainsi que sur les circulations qui les structurent. Nous explorons l’émergence des bureaucraties en Europe et… Más informaciones https://calenda-formation.labocleo.org/573509
LOCATION:
END:VEVENT
END:VCALENDAR
