BEGIN:VCALENDAR
VERSION:2.0
PRODID:-//https://calenda-formation.labocleo.org
X-WR-CALNAME:Calenda
X-WR-TIMEZONE:Europe/Paris
CALSCALE:GREGORIAN
X-WR-CALDESC:The calendar for arts, humanities and social sciences
METHOD:PUBLISH
BEGIN:VEVENT
DTSTART;VALUE=DATE:20190314
DTEND;VALUE=DATE:20190315
UID:576503-20190314@calenda.revues.org
SUMMARY:Anthropogenesis
URL:https://calenda-formation.labocleo.org/576503
DESCRIPTION:La question des origines de l’homme est une vraie interrogation depuis le XVIIIe siècle\, en Occident. Depuis\, le savoir de nos origines s’est construit au carrefour de sciences nouvelles\, distinctes\, et même fort différentes les unes des autres. Tout… @plus_info https://calenda-formation.labocleo.org/576503
LOCATION:Pessac
END:VEVENT
BEGIN:VEVENT
DTSTART;VALUE=DATE:20190315
DTEND;VALUE=DATE:20190316
UID:576503-20190315@calenda.revues.org
SUMMARY:Anthropogenesis
URL:https://calenda-formation.labocleo.org/576503
DESCRIPTION:La question des origines de l’homme est une vraie interrogation depuis le XVIIIe siècle\, en Occident. Depuis\, le savoir de nos origines s’est construit au carrefour de sciences nouvelles\, distinctes\, et même fort différentes les unes des autres. Tout… @plus_info https://calenda-formation.labocleo.org/576503
LOCATION:Pessac
END:VEVENT
END:VCALENDAR
