BEGIN:VCALENDAR
VERSION:2.0
PRODID:-//https://calenda-formation.labocleo.org
X-WR-CALNAME:Calenda
X-WR-TIMEZONE:Europe/Paris
CALSCALE:GREGORIAN
X-WR-CALDESC:Le calendrier des lettres et sciences humaines et sociales
METHOD:PUBLISH
BEGIN:VEVENT
DTSTART;VALUE=DATE:20190312
DTEND;VALUE=DATE:20190313
UID:576682-20190312@calenda.revues.org
SUMMARY:Musées et patrimoines au Brésil : expériences communautaires et insurgentes
URL:https://calenda-formation.labocleo.org/576682
DESCRIPTION:Face à la dramatique actualité politique brésilienne\, aux conséquences sociales\, écologiques et culturelles aujourd’hui incalculables\, il n’est pas inutile de souligner la singularité et la richesse des expérimentations en muséologie et patrimoine qu… Más informaciones https://calenda-formation.labocleo.org/576682
LOCATION:Dijon
END:VEVENT
END:VCALENDAR
