BEGIN:VCALENDAR
VERSION:2.0
PRODID:-//https://calenda-formation.labocleo.org
X-WR-CALNAME:Calenda
X-WR-TIMEZONE:Europe/Paris
CALSCALE:GREGORIAN
X-WR-CALDESC:Le calendrier des lettres et sciences humaines et sociales
METHOD:PUBLISH
BEGIN:VEVENT
DTSTART;VALUE=DATE:20190228
DTEND;VALUE=DATE:20190301
UID:577999-20190228@calenda.revues.org
SUMMARY:Géographie et finances publiques
URL:https://calenda-formation.labocleo.org/577999
DESCRIPTION:Les sciences humaines\, économiques\, juridiques et sociales ont connu un changement considérable dans leur appréhension du rôle de l'espace dans l'explication des processus sociaux. Dans les études socio-juridiques\, cet intérêt pour les relations spat… Weitere Informationen https://calenda-formation.labocleo.org/577999
LOCATION:Paris
END:VEVENT
BEGIN:VEVENT
DTSTART;VALUE=DATE:20190523
DTEND;VALUE=DATE:20190524
UID:577999-20190523@calenda.revues.org
SUMMARY:Géographie et finances publiques
URL:https://calenda-formation.labocleo.org/577999
DESCRIPTION:Les sciences humaines\, économiques\, juridiques et sociales ont connu un changement considérable dans leur appréhension du rôle de l'espace dans l'explication des processus sociaux. Dans les études socio-juridiques\, cet intérêt pour les relations spat… Weitere Informationen https://calenda-formation.labocleo.org/577999
LOCATION:Paris
END:VEVENT
BEGIN:VEVENT
DTSTART;VALUE=DATE:20190614
DTEND;VALUE=DATE:20190615
UID:577999-20190614@calenda.revues.org
SUMMARY:Géographie et finances publiques
URL:https://calenda-formation.labocleo.org/577999
DESCRIPTION:Les sciences humaines\, économiques\, juridiques et sociales ont connu un changement considérable dans leur appréhension du rôle de l'espace dans l'explication des processus sociaux. Dans les études socio-juridiques\, cet intérêt pour les relations spat… Weitere Informationen https://calenda-formation.labocleo.org/577999
LOCATION:Paris
END:VEVENT
END:VCALENDAR
