BEGIN:VCALENDAR
VERSION:2.0
PRODID:-//https://calenda-formation.labocleo.org
X-WR-CALNAME:Calenda
X-WR-TIMEZONE:Europe/Paris
CALSCALE:GREGORIAN
X-WR-CALDESC:Le calendrier des lettres et sciences humaines et sociales
METHOD:PUBLISH
BEGIN:VEVENT
DTSTART;VALUE=DATE:20190404
DTEND;VALUE=DATE:20190405
UID:579295-20190404@calenda.revues.org
SUMMARY:Santé à la mine
URL:https://calenda-formation.labocleo.org/579295
DESCRIPTION:Le Centre historique minier organise un colloque international Santé à la mine. Acteurs et systèmes de soins\, les 4 et 5 avril 2019 à Lewarde (France). Les enjeux de santé liés aux mondes miniers ont en effet fait l’objet ces dernières années d’une a… Weitere Informationen https://calenda-formation.labocleo.org/579295
LOCATION:Lewarde
END:VEVENT
BEGIN:VEVENT
DTSTART;VALUE=DATE:20190405
DTEND;VALUE=DATE:20190406
UID:579295-20190405@calenda.revues.org
SUMMARY:Santé à la mine
URL:https://calenda-formation.labocleo.org/579295
DESCRIPTION:Le Centre historique minier organise un colloque international Santé à la mine. Acteurs et systèmes de soins\, les 4 et 5 avril 2019 à Lewarde (France). Les enjeux de santé liés aux mondes miniers ont en effet fait l’objet ces dernières années d’une a… Weitere Informationen https://calenda-formation.labocleo.org/579295
LOCATION:Lewarde
END:VEVENT
END:VCALENDAR
