BEGIN:VCALENDAR
VERSION:2.0
PRODID:-//https://calenda-formation.labocleo.org
X-WR-CALNAME:Calenda
X-WR-TIMEZONE:Europe/Paris
CALSCALE:GREGORIAN
X-WR-CALDESC:The calendar for arts, humanities and social sciences
METHOD:PUBLISH
BEGIN:VEVENT
DTSTART;VALUE=DATE:20190327
DTEND;VALUE=DATE:20190328
UID:580075-20190327@calenda.revues.org
SUMMARY:The Fribourg Forum for Contemporary History
URL:https://calenda-formation.labocleo.org/580075
DESCRIPTION:Le forum fribourgeois est un lieu d'échange et de rencontre pour les chercheuses et chercheurs de l'université de Fribourg en histoire contemporaine (francophones et germanophones)\, qui travaillent sur les XIXe et XXe siècles. … @plus_info https://calenda-formation.labocleo.org/580075
LOCATION:Fribourg
END:VEVENT
BEGIN:VEVENT
DTSTART;VALUE=DATE:20190410
DTEND;VALUE=DATE:20190411
UID:580075-20190410@calenda.revues.org
SUMMARY:The Fribourg Forum for Contemporary History
URL:https://calenda-formation.labocleo.org/580075
DESCRIPTION:Le forum fribourgeois est un lieu d'échange et de rencontre pour les chercheuses et chercheurs de l'université de Fribourg en histoire contemporaine (francophones et germanophones)\, qui travaillent sur les XIXe et XXe siècles. … @plus_info https://calenda-formation.labocleo.org/580075
LOCATION:Fribourg
END:VEVENT
BEGIN:VEVENT
DTSTART;VALUE=DATE:20190508
DTEND;VALUE=DATE:20190509
UID:580075-20190508@calenda.revues.org
SUMMARY:The Fribourg Forum for Contemporary History
URL:https://calenda-formation.labocleo.org/580075
DESCRIPTION:Le forum fribourgeois est un lieu d'échange et de rencontre pour les chercheuses et chercheurs de l'université de Fribourg en histoire contemporaine (francophones et germanophones)\, qui travaillent sur les XIXe et XXe siècles. … @plus_info https://calenda-formation.labocleo.org/580075
LOCATION:Fribourg
END:VEVENT
BEGIN:VEVENT
DTSTART;VALUE=DATE:20190522
DTEND;VALUE=DATE:20190523
UID:580075-20190522@calenda.revues.org
SUMMARY:The Fribourg Forum for Contemporary History
URL:https://calenda-formation.labocleo.org/580075
DESCRIPTION:Le forum fribourgeois est un lieu d'échange et de rencontre pour les chercheuses et chercheurs de l'université de Fribourg en histoire contemporaine (francophones et germanophones)\, qui travaillent sur les XIXe et XXe siècles. … @plus_info https://calenda-formation.labocleo.org/580075
LOCATION:Fribourg
END:VEVENT
END:VCALENDAR
