BEGIN:VCALENDAR
VERSION:2.0
PRODID:-//https://calenda-formation.labocleo.org
X-WR-CALNAME:Calenda
X-WR-TIMEZONE:Europe/Paris
CALSCALE:GREGORIAN
X-WR-CALDESC:O calendário de letras e de ciências sociais e humanas
METHOD:PUBLISH
BEGIN:VEVENT
DTSTART;VALUE=DATE:20190401
DTEND;VALUE=DATE:20190402
UID:582285-20190401@calenda.revues.org
SUMMARY:Jeux sérieux urbains et numériques
URL:https://calenda-formation.labocleo.org/582285
DESCRIPTION:Dès les années 1970\, Dupuy (1972) dénombre une centaine de « jeux de simulation » prenant pour thème la ville\, qu’il nomme : « jeux urbains ». 45 ans après leur publication\, ses travaux restent d’une formidable acuité. Ce numéro de NETCOM souhaite en… @plus_info https://calenda-formation.labocleo.org/582285
LOCATION:
END:VEVENT
END:VCALENDAR
