BEGIN:VCALENDAR
VERSION:2.0
PRODID:-//https://calenda-formation.labocleo.org
X-WR-CALNAME:Calenda
X-WR-TIMEZONE:Europe/Paris
CALSCALE:GREGORIAN
X-WR-CALDESC:The calendar for arts, humanities and social sciences
METHOD:PUBLISH
BEGIN:VEVENT
DTSTART;VALUE=DATE:20190318
DTEND;VALUE=DATE:20190319
UID:582343-20190318@calenda.revues.org
SUMMARY:The sociology of organisations: the heritage of Michel Crozier 
URL:https://calenda-formation.labocleo.org/582343
DESCRIPTION:À l’heure des dynamiques locales\, nationales et globales\, mais aussi à l’heure des interfaces disciplinaires\, il est intéressant de faire un bilan du rôle et de l’apport de la pensée de Michel Crozier et de façon plus générale\, de la sociologie des o… @plus_info https://calenda-formation.labocleo.org/582343
LOCATION:Quebec City
END:VEVENT
END:VCALENDAR
