BEGIN:VCALENDAR
VERSION:2.0
PRODID:-//https://calenda-formation.labocleo.org
X-WR-CALNAME:Calenda
X-WR-TIMEZONE:Europe/Paris
CALSCALE:GREGORIAN
X-WR-CALDESC:The calendar for arts, humanities and social sciences
METHOD:PUBLISH
BEGIN:VEVENT
DTSTART;VALUE=DATE:20190325
DTEND;VALUE=DATE:20190326
UID:582539-20190325@calenda.revues.org
SUMMARY:Home Away From Home
URL:https://calenda-formation.labocleo.org/582539
DESCRIPTION:After a first series of seminars called Home: Heaven and Hell that explored the relations of a subject to his places of origin in contemporary narratives\, a next series of HOME will dwell on the reconstruction of an imagined home. What characterizes … @plus_info https://calenda-formation.labocleo.org/582539
LOCATION:Brussels
END:VEVENT
END:VCALENDAR
