BEGIN:VCALENDAR
VERSION:2.0
PRODID:-//https://calenda-formation.labocleo.org
X-WR-CALNAME:Calenda
X-WR-TIMEZONE:Europe/Paris
CALSCALE:GREGORIAN
X-WR-CALDESC:O calendário de letras e de ciências sociais e humanas
METHOD:PUBLISH
BEGIN:VEVENT
DTSTART;VALUE=DATE:20190515
DTEND;VALUE=DATE:20190516
UID:582803-20190515@calenda.revues.org
SUMMARY:Comment les tensions sur l’eau conduisent-elles à en repenser la gouvernance ?
URL:https://calenda-formation.labocleo.org/582803
DESCRIPTION:En de nombreuses régions\, et notamment l’ensemble Europe-Méditerranée\, les tensions sur la ressource en eau sont de plus en plus fortes : les pays du bassin Méditerranéen sont affectés en premier lieu\, mais les pays situés plus au nord ne seront pas … @plus_info https://calenda-formation.labocleo.org/582803
LOCATION:
END:VEVENT
END:VCALENDAR
