BEGIN:VCALENDAR
VERSION:2.0
PRODID:-//https://calenda-formation.labocleo.org
X-WR-CALNAME:Calenda
X-WR-TIMEZONE:Europe/Paris
CALSCALE:GREGORIAN
X-WR-CALDESC:The calendar for arts, humanities and social sciences
METHOD:PUBLISH
BEGIN:VEVENT
DTSTART;VALUE=DATE:20190408
DTEND;VALUE=DATE:20190409
UID:584535-20190408@calenda.revues.org
SUMMARY:Working all night
URL:https://calenda-formation.labocleo.org/584535
DESCRIPTION:Issues we would like contributors to address in the workshop are: How did the temporal organization of labour and the night shift evolve in different places and different times? How has the night shift been perceived and ‘lived’ by workers who have e… @plus_info https://calenda-formation.labocleo.org/584535
LOCATION:Prague
END:VEVENT
END:VCALENDAR
