BEGIN:VCALENDAR
VERSION:2.0
PRODID:-//https://calenda-formation.labocleo.org
X-WR-CALNAME:Calenda
X-WR-TIMEZONE:Europe/Paris
CALSCALE:GREGORIAN
X-WR-CALDESC:O calendário de letras e de ciências sociais e humanas
METHOD:PUBLISH
BEGIN:VEVENT
DTSTART;VALUE=DATE:20190331
DTEND;VALUE=DATE:20190401
UID:584685-20190331@calenda.revues.org
SUMMARY:Médias de l'image et du photojournalisme
URL:https://calenda-formation.labocleo.org/584685
DESCRIPTION:Les médias sont envisagés en tant que moyens et intermédiaires qui permettent aux hommes de s'exprimer et de communiquer. Nous abordons différents types de médias visuels tant imprimés\, analogiques que numériques et notamment ceux de la presse. L'int… @plus_info https://calenda-formation.labocleo.org/584685
LOCATION:Perpinhã
END:VEVENT
END:VCALENDAR
