BEGIN:VCALENDAR
VERSION:2.0
PRODID:-//https://calenda-formation.labocleo.org
X-WR-CALNAME:Calenda
X-WR-TIMEZONE:Europe/Paris
CALSCALE:GREGORIAN
X-WR-CALDESC:The calendar for arts, humanities and social sciences
METHOD:PUBLISH
BEGIN:VEVENT
DTSTART;VALUE=DATE:20190630
DTEND;VALUE=DATE:20190701
UID:585925-20190630@calenda.revues.org
SUMMARY:The mechanics of applied qualitative research
URL:https://calenda-formation.labocleo.org/585925
DESCRIPTION:Le numéro proposé fait suite au colloque de l’Association internationale des sociologues de langue française\, qui avait pour thème « La mécanique de l’analyse qualitative ». Parmi les communications présentées\, certaines ont davantage eu trait à la r… @plus_info https://calenda-formation.labocleo.org/585925
LOCATION:
END:VEVENT
END:VCALENDAR
