BEGIN:VCALENDAR
VERSION:2.0
PRODID:-//https://calenda-formation.labocleo.org
X-WR-CALNAME:Calenda
X-WR-TIMEZONE:Europe/Paris
CALSCALE:GREGORIAN
X-WR-CALDESC:Le calendrier des lettres et sciences humaines et sociales
METHOD:PUBLISH
BEGIN:VEVENT
DTSTART;VALUE=DATE:20190316
DTEND;VALUE=DATE:20190317
UID:589898-20190316@calenda.revues.org
SUMMARY:Of mediation and power : Intermediaries in the South Asian societies
URL:https://calenda-formation.labocleo.org/589898
DESCRIPTION:Les XXIe ateliers de l'Association des jeunes études indiennes (AJEI) se tiendront à Delhi du 22 eu 25 avril 2019\, dans les locaux du Centre des sciences humaines sur le thème de l'intermédiation et du pouvoir. L'AJEI est une association de jeunes ch… Más informaciones https://calenda-formation.labocleo.org/589898
LOCATION:Delhi
END:VEVENT
END:VCALENDAR
