BEGIN:VCALENDAR
VERSION:2.0
PRODID:-//https://calenda-formation.labocleo.org
X-WR-CALNAME:Calenda
X-WR-TIMEZONE:Europe/Paris
CALSCALE:GREGORIAN
X-WR-CALDESC:Le calendrier des lettres et sciences humaines et sociales
METHOD:PUBLISH
BEGIN:VEVENT
DTSTART;VALUE=DATE:20190515
DTEND;VALUE=DATE:20190516
UID:593797-20190515@calenda.revues.org
SUMMARY:Écritures urbaines\, écritures exposées
URL:https://calenda-formation.labocleo.org/593797
DESCRIPTION:Dans le cadre du programme « Émergences » de la ville de Paris\, la revue bilingue Biens symboliques/Symbolic Goods organise\, en partenariat avec le Mucem\, un colloque international et interdisciplinaire consacré aux écritures urbaines\, écritures expo… @plus_info https://calenda-formation.labocleo.org/593797
LOCATION:Paris\, Marseille
END:VEVENT
END:VCALENDAR
