BEGIN:VCALENDAR
VERSION:2.0
PRODID:-//https://calenda-formation.labocleo.org
X-WR-CALNAME:Calenda
X-WR-TIMEZONE:Europe/Paris
CALSCALE:GREGORIAN
X-WR-CALDESC:The calendar for arts, humanities and social sciences
METHOD:PUBLISH
BEGIN:VEVENT
DTSTART;VALUE=DATE:20190430
DTEND;VALUE=DATE:20190501
UID:595831-20190430@calenda.revues.org
SUMMARY:The arts in Tunisia: generational issues and aesthetic and cultural issues
URL:https://calenda-formation.labocleo.org/595831
DESCRIPTION:Le colloque réunira des chercheurs de Tunisie et de pays amis\, en vue d’étudier les grandes étapes historiques qui ont marqué le parcours des arts plastiques modernes et contemporains en Tunisie. Ce grand rendez-vous réunira également des artistes\, d… @plus_info https://calenda-formation.labocleo.org/595831
LOCATION:
END:VEVENT
END:VCALENDAR
