BEGIN:VCALENDAR
VERSION:2.0
PRODID:-//https://calenda-formation.labocleo.org
X-WR-CALNAME:Calenda
X-WR-TIMEZONE:Europe/Paris
CALSCALE:GREGORIAN
X-WR-CALDESC:The calendar for arts, humanities and social sciences
METHOD:PUBLISH
BEGIN:VEVENT
DTSTART;VALUE=DATE:20190901
DTEND;VALUE=DATE:20190902
UID:597393-20190901@calenda.revues.org
SUMMARY:Culinary Translation
URL:https://calenda-formation.labocleo.org/597393
DESCRIPTION:Translation and the culinary arts are universal human activities. Both have been practised since time immemorial. They are also eminently cultural. When Larbaud says “you are who you translate” (“Dis moi qui tu traduis\, je te dirai qui tu es” – 1946:… @plus_info https://calenda-formation.labocleo.org/597393
LOCATION:Lille
END:VEVENT
END:VCALENDAR
