BEGIN:VCALENDAR
VERSION:2.0
PRODID:-//https://calenda-formation.labocleo.org
X-WR-CALNAME:Calenda
X-WR-TIMEZONE:Europe/Paris
CALSCALE:GREGORIAN
X-WR-CALDESC:Le calendrier des lettres et sciences humaines et sociales
METHOD:PUBLISH
BEGIN:VEVENT
DTSTART;VALUE=DATE:20190615
DTEND;VALUE=DATE:20190616
UID:597823-20190615@calenda.revues.org
SUMMARY:Les frontières de la privation de liberté
URL:https://calenda-formation.labocleo.org/597823
DESCRIPTION:Ce colloque\, consacré aux frontières de la privation de liberté offre l’opportunité à des étudiants en master 2\, doctorants ou jeunes docteurs ainsi qu’à de jeunes professionnels de présenter leurs travaux de recherche devant un public composé de leu… Más informaciones https://calenda-formation.labocleo.org/597823
LOCATION:París
END:VEVENT
END:VCALENDAR
