BEGIN:VCALENDAR
VERSION:2.0
PRODID:-//https://calenda-formation.labocleo.org
X-WR-CALNAME:Calenda
X-WR-TIMEZONE:Europe/Paris
CALSCALE:GREGORIAN
X-WR-CALDESC:The calendar for arts, humanities and social sciences
METHOD:PUBLISH
BEGIN:VEVENT
DTSTART;VALUE=DATE:20190404
DTEND;VALUE=DATE:20190405
UID:597975-20190404@calenda.revues.org
SUMMARY:Being an editor in France in the 19th century
URL:https://calenda-formation.labocleo.org/597975
DESCRIPTION:Le colloque « Être éditeur en France au XIXe siècle » se déroulera les 4 et 5 avril 2019 aux Archives nationales\, site de Pierrefitte-sur-Seine. Organisé sur trois demi-journées\, il a pour ambition de clore le projet DEF19\, qui s’achèvera en octobre … @plus_info https://calenda-formation.labocleo.org/597975
LOCATION:Pierrefitte-sur-Seine
END:VEVENT
BEGIN:VEVENT
DTSTART;VALUE=DATE:20190405
DTEND;VALUE=DATE:20190406
UID:597975-20190405@calenda.revues.org
SUMMARY:Being an editor in France in the 19th century
URL:https://calenda-formation.labocleo.org/597975
DESCRIPTION:Le colloque « Être éditeur en France au XIXe siècle » se déroulera les 4 et 5 avril 2019 aux Archives nationales\, site de Pierrefitte-sur-Seine. Organisé sur trois demi-journées\, il a pour ambition de clore le projet DEF19\, qui s’achèvera en octobre … @plus_info https://calenda-formation.labocleo.org/597975
LOCATION:Pierrefitte-sur-Seine
END:VEVENT
END:VCALENDAR
