BEGIN:VCALENDAR
VERSION:2.0
PRODID:-//https://calenda-formation.labocleo.org
X-WR-CALNAME:Calenda
X-WR-TIMEZONE:Europe/Paris
CALSCALE:GREGORIAN
X-WR-CALDESC:Le calendrier des lettres et sciences humaines et sociales
METHOD:PUBLISH
BEGIN:VEVENT
DTSTART;VALUE=DATE:20190412
DTEND;VALUE=DATE:20190413
UID:599042-20190412@calenda.revues.org
SUMMARY:Méthodologie(s) de la recherche sur les pratiques festives et carnavalesques
URL:https://calenda-formation.labocleo.org/599042
DESCRIPTION:L’objectif de ce colloque est d’explorer les limites\, les taxonomies\, les définitions afférentes à une ou des méthodologie(s) de la recherche sur les pratiques festives et carnavalesques. Il offrira un espace d’échanges et de discussions autour … Más informaciones https://calenda-formation.labocleo.org/599042
LOCATION:Vitré
END:VEVENT
BEGIN:VEVENT
DTSTART;VALUE=DATE:20190413
DTEND;VALUE=DATE:20190414
UID:599042-20190413@calenda.revues.org
SUMMARY:Méthodologie(s) de la recherche sur les pratiques festives et carnavalesques
URL:https://calenda-formation.labocleo.org/599042
DESCRIPTION:L’objectif de ce colloque est d’explorer les limites\, les taxonomies\, les définitions afférentes à une ou des méthodologie(s) de la recherche sur les pratiques festives et carnavalesques. Il offrira un espace d’échanges et de discussions autour … Más informaciones https://calenda-formation.labocleo.org/599042
LOCATION:Vitré
END:VEVENT
BEGIN:VEVENT
DTSTART;VALUE=DATE:20190414
DTEND;VALUE=DATE:20190415
UID:599042-20190414@calenda.revues.org
SUMMARY:Méthodologie(s) de la recherche sur les pratiques festives et carnavalesques
URL:https://calenda-formation.labocleo.org/599042
DESCRIPTION:L’objectif de ce colloque est d’explorer les limites\, les taxonomies\, les définitions afférentes à une ou des méthodologie(s) de la recherche sur les pratiques festives et carnavalesques. Il offrira un espace d’échanges et de discussions autour … Más informaciones https://calenda-formation.labocleo.org/599042
LOCATION:Vitré
END:VEVENT
END:VCALENDAR
