BEGIN:VCALENDAR
VERSION:2.0
PRODID:-//https://calenda-formation.labocleo.org
X-WR-CALNAME:Calenda
X-WR-TIMEZONE:Europe/Paris
CALSCALE:GREGORIAN
X-WR-CALDESC:The calendar for arts, humanities and social sciences
METHOD:PUBLISH
BEGIN:VEVENT
DTSTART;VALUE=DATE:20190620
DTEND;VALUE=DATE:20190621
UID:599991-20190620@calenda.revues.org
SUMMARY:Collecting impressionism
URL:https://calenda-formation.labocleo.org/599991
DESCRIPTION:Ce colloque propose de s'intéresser aux collectionneurs qui se sont engagés dans la défense de l'impressionnisme et de poser la question du rôle qu'ils ont joué dans le développement et la diffusion de l’impressionnisme depuis les débuts du mouvement… @plus_info https://calenda-formation.labocleo.org/599991
LOCATION:Rouen
END:VEVENT
END:VCALENDAR
