BEGIN:VCALENDAR
VERSION:2.0
PRODID:-//https://calenda-formation.labocleo.org
X-WR-CALNAME:Calenda
X-WR-TIMEZONE:Europe/Paris
CALSCALE:GREGORIAN
X-WR-CALDESC:The calendar for arts, humanities and social sciences
METHOD:PUBLISH
BEGIN:VEVENT
DTSTART;VALUE=DATE:20190401
DTEND;VALUE=DATE:20190402
UID:602735-20190401@calenda.revues.org
SUMMARY:The "Retirada" and Spanish Republican exile in Britanny\, 80 years on (1939-2019)
URL:https://calenda-formation.labocleo.org/602735
DESCRIPTION:Ce colloque a pour objectif de mettre en lumière une période fondamentale de l’histoire européenne du XXe siècle et d’apporter un éclairage historique\, littéraire\, artistique et mémoriel sur la guerre d’Espagne et l’accueil des réfugiés espa… @plus_info https://calenda-formation.labocleo.org/602735
LOCATION:Brest\, Camaret-sur-Mer
END:VEVENT
BEGIN:VEVENT
DTSTART;VALUE=DATE:20190402
DTEND;VALUE=DATE:20190403
UID:602735-20190402@calenda.revues.org
SUMMARY:The "Retirada" and Spanish Republican exile in Britanny\, 80 years on (1939-2019)
URL:https://calenda-formation.labocleo.org/602735
DESCRIPTION:Ce colloque a pour objectif de mettre en lumière une période fondamentale de l’histoire européenne du XXe siècle et d’apporter un éclairage historique\, littéraire\, artistique et mémoriel sur la guerre d’Espagne et l’accueil des réfugiés espa… @plus_info https://calenda-formation.labocleo.org/602735
LOCATION:Brest\, Camaret-sur-Mer
END:VEVENT
BEGIN:VEVENT
DTSTART;VALUE=DATE:20190403
DTEND;VALUE=DATE:20190404
UID:602735-20190403@calenda.revues.org
SUMMARY:The "Retirada" and Spanish Republican exile in Britanny\, 80 years on (1939-2019)
URL:https://calenda-formation.labocleo.org/602735
DESCRIPTION:Ce colloque a pour objectif de mettre en lumière une période fondamentale de l’histoire européenne du XXe siècle et d’apporter un éclairage historique\, littéraire\, artistique et mémoriel sur la guerre d’Espagne et l’accueil des réfugiés espa… @plus_info https://calenda-formation.labocleo.org/602735
LOCATION:Brest\, Camaret-sur-Mer
END:VEVENT
BEGIN:VEVENT
DTSTART;VALUE=DATE:20190404
DTEND;VALUE=DATE:20190405
UID:602735-20190404@calenda.revues.org
SUMMARY:The "Retirada" and Spanish Republican exile in Britanny\, 80 years on (1939-2019)
URL:https://calenda-formation.labocleo.org/602735
DESCRIPTION:Ce colloque a pour objectif de mettre en lumière une période fondamentale de l’histoire européenne du XXe siècle et d’apporter un éclairage historique\, littéraire\, artistique et mémoriel sur la guerre d’Espagne et l’accueil des réfugiés espa… @plus_info https://calenda-formation.labocleo.org/602735
LOCATION:Brest\, Camaret-sur-Mer
END:VEVENT
END:VCALENDAR
