BEGIN:VCALENDAR
VERSION:2.0
PRODID:-//https://calenda-formation.labocleo.org
X-WR-CALNAME:Calenda
X-WR-TIMEZONE:Europe/Paris
CALSCALE:GREGORIAN
X-WR-CALDESC:Le calendrier des lettres et sciences humaines et sociales
METHOD:PUBLISH
BEGIN:VEVENT
DTSTART;VALUE=DATE:20190520
DTEND;VALUE=DATE:20190521
UID:604595-20190520@calenda.revues.org
SUMMARY:Chargé(e) d'enseignement en éthique et RSE
URL:https://calenda-formation.labocleo.org/604595
DESCRIPTION:Le Groupe ESC Clermont lance un appel à candidatures pour une charge d’enseignement en éthique et responsabilité sociale. Le/la chargé(e) d’enseignement aura en charge un module de 18h\, fois 4 groupes d’étudiants\, à assurer en anglais pendant la péri… Weitere Informationen https://calenda-formation.labocleo.org/604595
LOCATION:Clermont-Ferrand
END:VEVENT
END:VCALENDAR
