BEGIN:VCALENDAR
VERSION:2.0
PRODID:-//https://calenda-formation.labocleo.org
X-WR-CALNAME:Calenda
X-WR-TIMEZONE:Europe/Paris
CALSCALE:GREGORIAN
X-WR-CALDESC:Le calendrier des lettres et sciences humaines et sociales
METHOD:PUBLISH
BEGIN:VEVENT
DTSTART;VALUE=DATE:20190831
DTEND;VALUE=DATE:20190901
UID:605013-20190831@calenda.revues.org
SUMMARY:Projets de recherche de maîtrise rémunérés sur l’eutrophisation côtière
URL:https://calenda-formation.labocleo.org/605013
DESCRIPTION:Quatre projets de maîtrise sont disponibles à l'université du Québec à Rimouski et à l'université du Qéubec à Trois-Rivières dans le cadre d'un programme de recherche multidisciplinaire financé par le programme Odyssée Saint-Laurent du Réseau Québec … Más informaciones https://calenda-formation.labocleo.org/605013
LOCATION:Rimouski\, Trois-Rivières
END:VEVENT
END:VCALENDAR
