BEGIN:VCALENDAR
VERSION:2.0
PRODID:-//https://calenda-formation.labocleo.org
X-WR-CALNAME:Calenda
X-WR-TIMEZONE:Europe/Paris
CALSCALE:GREGORIAN
X-WR-CALDESC:The calendar for arts, humanities and social sciences
METHOD:PUBLISH
BEGIN:VEVENT
DTSTART;VALUE=DATE:20190523
DTEND;VALUE=DATE:20190524
UID:605069-20190523@calenda.revues.org
SUMMARY:The quality of life at work - liberation / alienation?
URL:https://calenda-formation.labocleo.org/605069
DESCRIPTION:La faculté d'Anthropologie sociale/ethnologie de Bordeaux organise sa sixième journée d'études sur la thèmatique du travail. En 2019\, le thème retenu est la qualité de vie au travail (QVT). La journée est organisée en 3 temps : communications autour … @plus_info https://calenda-formation.labocleo.org/605069
LOCATION:Bordeaux
END:VEVENT
END:VCALENDAR
