BEGIN:VCALENDAR
VERSION:2.0
PRODID:-//https://calenda-formation.labocleo.org
X-WR-CALNAME:Calenda
X-WR-TIMEZONE:Europe/Paris
CALSCALE:GREGORIAN
X-WR-CALDESC:The calendar for arts, humanities and social sciences
METHOD:PUBLISH
BEGIN:VEVENT
DTSTART;VALUE=DATE:20190430
DTEND;VALUE=DATE:20190501
UID:606221-20190430@calenda.revues.org
SUMMARY:Reconciling remembering and forgetting
URL:https://calenda-formation.labocleo.org/606221
DESCRIPTION:L’objectif du colloque est de prolonger vers l’amont les travaux déjà nombreux sur la réconciliation en Europe après 1945 en mettant l’accent sur l’usage et les mutations du concept. Les contributions porteront principalement sur le XIXe siècle et le… @plus_info https://calenda-formation.labocleo.org/606221
LOCATION:
END:VEVENT
END:VCALENDAR
