BEGIN:VCALENDAR
VERSION:2.0
PRODID:-//https://calenda-formation.labocleo.org
X-WR-CALNAME:Calenda
X-WR-TIMEZONE:Europe/Paris
CALSCALE:GREGORIAN
X-WR-CALDESC:Le calendrier des lettres et sciences humaines et sociales
METHOD:PUBLISH
BEGIN:VEVENT
DTSTART;VALUE=DATE:20190414
DTEND;VALUE=DATE:20190415
UID:606247-20190414@calenda.revues.org
SUMMARY:Working on Digital Scholarly Editions and Research Software Development in Berlin
URL:https://calenda-formation.labocleo.org/606247
DESCRIPTION:For the launch of an international digitization and digital edition project\, the Berlin-Brandenburg Academy of sciences and humanities (BBAW) invites applications for the position of a Research Assistant (male/female/divers) in the field of Digital H… Weitere Informationen https://calenda-formation.labocleo.org/606247
LOCATION:Berlin
END:VEVENT
END:VCALENDAR
