BEGIN:VCALENDAR
VERSION:2.0
PRODID:-//https://calenda-formation.labocleo.org
X-WR-CALNAME:Calenda
X-WR-TIMEZONE:Europe/Paris
CALSCALE:GREGORIAN
X-WR-CALDESC:Le calendrier des lettres et sciences humaines et sociales
METHOD:PUBLISH
BEGIN:VEVENT
DTSTART;VALUE=DATE:20190420
DTEND;VALUE=DATE:20190421
UID:606298-20190420@calenda.revues.org
SUMMARY:Bande dessinée et approches intermédiales
URL:https://calenda-formation.labocleo.org/606298
DESCRIPTION:Dans le cadre de cette journée d'études\, nous pourrions réfléchir sur les notions ou les théories que peut susciter l'intermédialité dans la bande dessinée\, que ce soit des dispositifs écraniques en rapport avec le film\, picturaux en lien avec la pei… @plus_info https://calenda-formation.labocleo.org/606298
LOCATION:Toulouse
END:VEVENT
END:VCALENDAR
