BEGIN:VCALENDAR
VERSION:2.0
PRODID:-//https://calenda-formation.labocleo.org
X-WR-CALNAME:Calenda
X-WR-TIMEZONE:Europe/Paris
CALSCALE:GREGORIAN
X-WR-CALDESC:The calendar for arts, humanities and social sciences
METHOD:PUBLISH
BEGIN:VEVENT
DTSTART;VALUE=DATE:20190411
DTEND;VALUE=DATE:20190412
UID:608766-20190411@calenda.revues.org
SUMMARY:The unexamined song of prose - rhythms of ancient prose
URL:https://calenda-formation.labocleo.org/608766
DESCRIPTION:Si la prose est bien une forme à part\, le rythme de la prose ne saurait s’analyser sans prendre en compte le rapport qu’elle entretient avec la poésie. L’histoire des formes littéraires montre que l’essoufflement de la poésie mène toujours à une pros… @plus_info https://calenda-formation.labocleo.org/608766
LOCATION:Paris 05 Panthéon
END:VEVENT
BEGIN:VEVENT
DTSTART;VALUE=DATE:20190412
DTEND;VALUE=DATE:20190413
UID:608766-20190412@calenda.revues.org
SUMMARY:The unexamined song of prose - rhythms of ancient prose
URL:https://calenda-formation.labocleo.org/608766
DESCRIPTION:Si la prose est bien une forme à part\, le rythme de la prose ne saurait s’analyser sans prendre en compte le rapport qu’elle entretient avec la poésie. L’histoire des formes littéraires montre que l’essoufflement de la poésie mène toujours à une pros… @plus_info https://calenda-formation.labocleo.org/608766
LOCATION:Paris 05 Panthéon
END:VEVENT
BEGIN:VEVENT
DTSTART;VALUE=DATE:20190413
DTEND;VALUE=DATE:20190414
UID:608766-20190413@calenda.revues.org
SUMMARY:The unexamined song of prose - rhythms of ancient prose
URL:https://calenda-formation.labocleo.org/608766
DESCRIPTION:Si la prose est bien une forme à part\, le rythme de la prose ne saurait s’analyser sans prendre en compte le rapport qu’elle entretient avec la poésie. L’histoire des formes littéraires montre que l’essoufflement de la poésie mène toujours à une pros… @plus_info https://calenda-formation.labocleo.org/608766
LOCATION:Paris 05 Panthéon
END:VEVENT
END:VCALENDAR
