BEGIN:VCALENDAR
VERSION:2.0
PRODID:-//https://calenda-formation.labocleo.org
X-WR-CALNAME:Calenda
X-WR-TIMEZONE:Europe/Paris
CALSCALE:GREGORIAN
X-WR-CALDESC:Le calendrier des lettres et sciences humaines et sociales
METHOD:PUBLISH
BEGIN:VEVENT
DTSTART;VALUE=DATE:20190731
DTEND;VALUE=DATE:20190801
UID:608890-20190731@calenda.revues.org
SUMMARY:Les frontières dans l'espace arabo-musulman
URL:https://calenda-formation.labocleo.org/608890
DESCRIPTION:This international scientific conference seeks to address the issue of boundaries from various perspectives: historical\, religious\, ideological\, philosophical and social. Much emphasis should be put on what is happening across the boundaries of influ… Weitere Informationen https://calenda-formation.labocleo.org/608890
LOCATION:
END:VEVENT
END:VCALENDAR
