BEGIN:VCALENDAR
VERSION:2.0
PRODID:-//https://calenda-formation.labocleo.org
X-WR-CALNAME:Calenda
X-WR-TIMEZONE:Europe/Paris
CALSCALE:GREGORIAN
X-WR-CALDESC:Le calendrier des lettres et sciences humaines et sociales
METHOD:PUBLISH
BEGIN:VEVENT
DTSTART;VALUE=DATE:20190517
DTEND;VALUE=DATE:20190518
UID:609058-20190517@calenda.revues.org
SUMMARY:Que reste-il du rêve européen ? 
URL:https://calenda-formation.labocleo.org/609058
DESCRIPTION:À l'approche des élections européennes\, et alors que la défiance des Européens à l'égard des institutions et du fonctionnement de l'Union européenne semble n'avoir jamais été aussi grande\, il a paru intéressant aux enseignants et chercheurs rassemblé… Weitere Informationen https://calenda-formation.labocleo.org/609058
LOCATION:Paris
END:VEVENT
END:VCALENDAR
