BEGIN:VCALENDAR
VERSION:2.0
PRODID:-//https://calenda-formation.labocleo.org
X-WR-CALNAME:Calenda
X-WR-TIMEZONE:Europe/Paris
CALSCALE:GREGORIAN
X-WR-CALDESC:Le calendrier des lettres et sciences humaines et sociales
METHOD:PUBLISH
BEGIN:VEVENT
DTSTART;VALUE=DATE:20190615
DTEND;VALUE=DATE:20190616
UID:609178-20190615@calenda.revues.org
SUMMARY:Communication – innovation sociale – diversité
URL:https://calenda-formation.labocleo.org/609178
DESCRIPTION:Dans nos démocraties pluriculturelles dites de « communication »\, l’art a toujours été un vecteur de dénonciation des rapports de domination comme en témoigne\, par exemple\, l’exposition au musée d’Orsay sur le modèle noir de Géricault à Matisse et pr… @plus_info https://calenda-formation.labocleo.org/609178
LOCATION:
END:VEVENT
END:VCALENDAR
