BEGIN:VCALENDAR
VERSION:2.0
PRODID:-//https://calenda-formation.labocleo.org
X-WR-CALNAME:Calenda
X-WR-TIMEZONE:Europe/Paris
CALSCALE:GREGORIAN
X-WR-CALDESC:O calendário de letras e de ciências sociais e humanas
METHOD:PUBLISH
BEGIN:VEVENT
DTSTART;VALUE=DATE:20191001
DTEND;VALUE=DATE:20191002
UID:619638-20191001@calenda.revues.org
SUMMARY:Le fait urbain en Algérie : nouvelles perspectives de recherche
URL:https://calenda-formation.labocleo.org/619638
DESCRIPTION:Ce dossier a comme ambition d’impulser et de rendre visible les recherches sur les villes algériennes en privilégiant les contributions qui explorent de nouveaux champs et apportent des savoirs actualisés sur la question urbaine. Cela passe par certa… @plus_info https://calenda-formation.labocleo.org/619638
LOCATION:
END:VEVENT
END:VCALENDAR
