BEGIN:VCALENDAR
VERSION:2.0
PRODID:-//https://calenda-formation.labocleo.org
X-WR-CALNAME:Calenda
X-WR-TIMEZONE:Europe/Paris
CALSCALE:GREGORIAN
X-WR-CALDESC:The calendar for arts, humanities and social sciences
METHOD:PUBLISH
BEGIN:VEVENT
DTSTART;VALUE=DATE:20190709
DTEND;VALUE=DATE:20190710
UID:621283-20190709@calenda.revues.org
SUMMARY:The emergent risks of sustainable development
URL:https://calenda-formation.labocleo.org/621283
DESCRIPTION:Ce colloque porte sur les politiques et stratégies de mobilité durable et leur traduction dans les domaines de l’aménagement et des pratiques de déplacement. Ces choix étant considérés a priori comme « vertueux »\, leurs versants négatifs\, tels que le… @plus_info https://calenda-formation.labocleo.org/621283
LOCATION:Aix-en-Provence
END:VEVENT
BEGIN:VEVENT
DTSTART;VALUE=DATE:20190710
DTEND;VALUE=DATE:20190711
UID:621283-20190710@calenda.revues.org
SUMMARY:The emergent risks of sustainable development
URL:https://calenda-formation.labocleo.org/621283
DESCRIPTION:Ce colloque porte sur les politiques et stratégies de mobilité durable et leur traduction dans les domaines de l’aménagement et des pratiques de déplacement. Ces choix étant considérés a priori comme « vertueux »\, leurs versants négatifs\, tels que le… @plus_info https://calenda-formation.labocleo.org/621283
LOCATION:Aix-en-Provence
END:VEVENT
END:VCALENDAR
