BEGIN:VCALENDAR
VERSION:2.0
PRODID:-//https://calenda-formation.labocleo.org
X-WR-CALNAME:Calenda
X-WR-TIMEZONE:Europe/Paris
CALSCALE:GREGORIAN
X-WR-CALDESC:The calendar for arts, humanities and social sciences
METHOD:PUBLISH
BEGIN:VEVENT
DTSTART;VALUE=DATE:20190502
DTEND;VALUE=DATE:20190503
UID:621383-20190502@calenda.revues.org
SUMMARY:Montaigne and the Portuguese empire - 
URL:https://calenda-formation.labocleo.org/621383
DESCRIPTION:L’université Bordeaux Montaigne invite à aller à la rencontre de Michel de Montaigne et de son œuvre à travers le regard d’un chercheur invité pour un mois de résidence. Cette année\, le Moi(s) Montaigne accueille Sanjay Subrahmanyam (Collège de Franc… @plus_info https://calenda-formation.labocleo.org/621383
LOCATION:Bordeaux
END:VEVENT
BEGIN:VEVENT
DTSTART;VALUE=DATE:20190504
DTEND;VALUE=DATE:20190505
UID:621383-20190504@calenda.revues.org
SUMMARY:Montaigne and the Portuguese empire - 
URL:https://calenda-formation.labocleo.org/621383
DESCRIPTION:L’université Bordeaux Montaigne invite à aller à la rencontre de Michel de Montaigne et de son œuvre à travers le regard d’un chercheur invité pour un mois de résidence. Cette année\, le Moi(s) Montaigne accueille Sanjay Subrahmanyam (Collège de Franc… @plus_info https://calenda-formation.labocleo.org/621383
LOCATION:Bordeaux
END:VEVENT
BEGIN:VEVENT
DTSTART;VALUE=DATE:20190506
DTEND;VALUE=DATE:20190507
UID:621383-20190506@calenda.revues.org
SUMMARY:Montaigne and the Portuguese empire - 
URL:https://calenda-formation.labocleo.org/621383
DESCRIPTION:L’université Bordeaux Montaigne invite à aller à la rencontre de Michel de Montaigne et de son œuvre à travers le regard d’un chercheur invité pour un mois de résidence. Cette année\, le Moi(s) Montaigne accueille Sanjay Subrahmanyam (Collège de Franc… @plus_info https://calenda-formation.labocleo.org/621383
LOCATION:Bordeaux
END:VEVENT
BEGIN:VEVENT
DTSTART;VALUE=DATE:20190507
DTEND;VALUE=DATE:20190508
UID:621383-20190507@calenda.revues.org
SUMMARY:Montaigne and the Portuguese empire - 
URL:https://calenda-formation.labocleo.org/621383
DESCRIPTION:L’université Bordeaux Montaigne invite à aller à la rencontre de Michel de Montaigne et de son œuvre à travers le regard d’un chercheur invité pour un mois de résidence. Cette année\, le Moi(s) Montaigne accueille Sanjay Subrahmanyam (Collège de Franc… @plus_info https://calenda-formation.labocleo.org/621383
LOCATION:Bordeaux
END:VEVENT
BEGIN:VEVENT
DTSTART;VALUE=DATE:20190509
DTEND;VALUE=DATE:20190510
UID:621383-20190509@calenda.revues.org
SUMMARY:Montaigne and the Portuguese empire - 
URL:https://calenda-formation.labocleo.org/621383
DESCRIPTION:L’université Bordeaux Montaigne invite à aller à la rencontre de Michel de Montaigne et de son œuvre à travers le regard d’un chercheur invité pour un mois de résidence. Cette année\, le Moi(s) Montaigne accueille Sanjay Subrahmanyam (Collège de Franc… @plus_info https://calenda-formation.labocleo.org/621383
LOCATION:Bordeaux
END:VEVENT
BEGIN:VEVENT
DTSTART;VALUE=DATE:20190510
DTEND;VALUE=DATE:20190511
UID:621383-20190510@calenda.revues.org
SUMMARY:Montaigne and the Portuguese empire - 
URL:https://calenda-formation.labocleo.org/621383
DESCRIPTION:L’université Bordeaux Montaigne invite à aller à la rencontre de Michel de Montaigne et de son œuvre à travers le regard d’un chercheur invité pour un mois de résidence. Cette année\, le Moi(s) Montaigne accueille Sanjay Subrahmanyam (Collège de Franc… @plus_info https://calenda-formation.labocleo.org/621383
LOCATION:Bordeaux
END:VEVENT
BEGIN:VEVENT
DTSTART;VALUE=DATE:20190515
DTEND;VALUE=DATE:20190516
UID:621383-20190515@calenda.revues.org
SUMMARY:Montaigne and the Portuguese empire - 
URL:https://calenda-formation.labocleo.org/621383
DESCRIPTION:L’université Bordeaux Montaigne invite à aller à la rencontre de Michel de Montaigne et de son œuvre à travers le regard d’un chercheur invité pour un mois de résidence. Cette année\, le Moi(s) Montaigne accueille Sanjay Subrahmanyam (Collège de Franc… @plus_info https://calenda-formation.labocleo.org/621383
LOCATION:Bordeaux
END:VEVENT
BEGIN:VEVENT
DTSTART;VALUE=DATE:20190516
DTEND;VALUE=DATE:20190517
UID:621383-20190516@calenda.revues.org
SUMMARY:Montaigne and the Portuguese empire - 
URL:https://calenda-formation.labocleo.org/621383
DESCRIPTION:L’université Bordeaux Montaigne invite à aller à la rencontre de Michel de Montaigne et de son œuvre à travers le regard d’un chercheur invité pour un mois de résidence. Cette année\, le Moi(s) Montaigne accueille Sanjay Subrahmanyam (Collège de Franc… @plus_info https://calenda-formation.labocleo.org/621383
LOCATION:Bordeaux
END:VEVENT
BEGIN:VEVENT
DTSTART;VALUE=DATE:20190517
DTEND;VALUE=DATE:20190518
UID:621383-20190517@calenda.revues.org
SUMMARY:Montaigne and the Portuguese empire - 
URL:https://calenda-formation.labocleo.org/621383
DESCRIPTION:L’université Bordeaux Montaigne invite à aller à la rencontre de Michel de Montaigne et de son œuvre à travers le regard d’un chercheur invité pour un mois de résidence. Cette année\, le Moi(s) Montaigne accueille Sanjay Subrahmanyam (Collège de Franc… @plus_info https://calenda-formation.labocleo.org/621383
LOCATION:Bordeaux
END:VEVENT
BEGIN:VEVENT
DTSTART;VALUE=DATE:20190518
DTEND;VALUE=DATE:20190519
UID:621383-20190518@calenda.revues.org
SUMMARY:Montaigne and the Portuguese empire - 
URL:https://calenda-formation.labocleo.org/621383
DESCRIPTION:L’université Bordeaux Montaigne invite à aller à la rencontre de Michel de Montaigne et de son œuvre à travers le regard d’un chercheur invité pour un mois de résidence. Cette année\, le Moi(s) Montaigne accueille Sanjay Subrahmanyam (Collège de Franc… @plus_info https://calenda-formation.labocleo.org/621383
LOCATION:Bordeaux
END:VEVENT
BEGIN:VEVENT
DTSTART;VALUE=DATE:20190523
DTEND;VALUE=DATE:20190524
UID:621383-20190523@calenda.revues.org
SUMMARY:Montaigne and the Portuguese empire - 
URL:https://calenda-formation.labocleo.org/621383
DESCRIPTION:L’université Bordeaux Montaigne invite à aller à la rencontre de Michel de Montaigne et de son œuvre à travers le regard d’un chercheur invité pour un mois de résidence. Cette année\, le Moi(s) Montaigne accueille Sanjay Subrahmanyam (Collège de Franc… @plus_info https://calenda-formation.labocleo.org/621383
LOCATION:Bordeaux
END:VEVENT
BEGIN:VEVENT
DTSTART;VALUE=DATE:20190524
DTEND;VALUE=DATE:20190525
UID:621383-20190524@calenda.revues.org
SUMMARY:Montaigne and the Portuguese empire - 
URL:https://calenda-formation.labocleo.org/621383
DESCRIPTION:L’université Bordeaux Montaigne invite à aller à la rencontre de Michel de Montaigne et de son œuvre à travers le regard d’un chercheur invité pour un mois de résidence. Cette année\, le Moi(s) Montaigne accueille Sanjay Subrahmanyam (Collège de Franc… @plus_info https://calenda-formation.labocleo.org/621383
LOCATION:Bordeaux
END:VEVENT
BEGIN:VEVENT
DTSTART;VALUE=DATE:20190529
DTEND;VALUE=DATE:20190530
UID:621383-20190529@calenda.revues.org
SUMMARY:Montaigne and the Portuguese empire - 
URL:https://calenda-formation.labocleo.org/621383
DESCRIPTION:L’université Bordeaux Montaigne invite à aller à la rencontre de Michel de Montaigne et de son œuvre à travers le regard d’un chercheur invité pour un mois de résidence. Cette année\, le Moi(s) Montaigne accueille Sanjay Subrahmanyam (Collège de Franc… @plus_info https://calenda-formation.labocleo.org/621383
LOCATION:Bordeaux
END:VEVENT
END:VCALENDAR
