BEGIN:VCALENDAR
VERSION:2.0
PRODID:-//https://calenda-formation.labocleo.org
X-WR-CALNAME:Calenda
X-WR-TIMEZONE:Europe/Paris
CALSCALE:GREGORIAN
X-WR-CALDESC:O calendário de letras e de ciências sociais e humanas
METHOD:PUBLISH
BEGIN:VEVENT
DTSTART;VALUE=DATE:20190509
DTEND;VALUE=DATE:20190510
UID:623159-20190509@calenda.revues.org
SUMMARY:Paul Celan et la traduction. Pratiques\, poétiques\, résistances 
URL:https://calenda-formation.labocleo.org/623159
DESCRIPTION:Cet atelier de deux jours entend offrir un espace pour réfléchir à la question de la traduction dans l'œuvre de Paul Celan\, (c'est-à-dire à l'importance de sa propre pratique de traducteur dans l'élaboration de sa poétique) et à celle de la traductio… @plus_info https://calenda-formation.labocleo.org/623159
LOCATION:Genebra
END:VEVENT
BEGIN:VEVENT
DTSTART;VALUE=DATE:20190510
DTEND;VALUE=DATE:20190511
UID:623159-20190510@calenda.revues.org
SUMMARY:Paul Celan et la traduction. Pratiques\, poétiques\, résistances 
URL:https://calenda-formation.labocleo.org/623159
DESCRIPTION:Cet atelier de deux jours entend offrir un espace pour réfléchir à la question de la traduction dans l'œuvre de Paul Celan\, (c'est-à-dire à l'importance de sa propre pratique de traducteur dans l'élaboration de sa poétique) et à celle de la traductio… @plus_info https://calenda-formation.labocleo.org/623159
LOCATION:Genebra
END:VEVENT
END:VCALENDAR
