BEGIN:VCALENDAR
VERSION:2.0
PRODID:-//https://calenda-formation.labocleo.org
X-WR-CALNAME:Calenda
X-WR-TIMEZONE:Europe/Paris
CALSCALE:GREGORIAN
X-WR-CALDESC:The calendar for arts, humanities and social sciences
METHOD:PUBLISH
BEGIN:VEVENT
DTSTART;VALUE=DATE:20190603
DTEND;VALUE=DATE:20190604
UID:623635-20190603@calenda.revues.org
SUMMARY:The role of the scientific argument in communication strategies tackling sensitive issues
URL:https://calenda-formation.labocleo.org/623635
DESCRIPTION:Le recours à la science apparaît comme une stratégie nouvelle de communication sensible. Il se réalise en communication d’acceptabilité\, de risque (Motulsky\, 2018) de crise\, ainsi que sur les sujets à forts enjeux sociétaux. La communication corporat… @plus_info https://calenda-formation.labocleo.org/623635
LOCATION:Paris
END:VEVENT
END:VCALENDAR
